BEGIN:VCALENDAR
VERSION:2.0
PRODID:-// eRoom plugin //NONSGML v1.0//EN
CALSCALE:GREGORIAN
BEGIN:VEVENT
UID:eRoom-1776762047
SUMMARY:Δομική Ι ΕΜΠ LIVE ΘΕΜΑΤΑ Πτυχιακής Ιούνιος 25
LOCATION:Zoom
DESCRIPTION:Δομική Ι ΕΜΠ LIVE ΘΕΜΑΤΑ Πτυχιακής Ι
 ύνιος 25 is inviting you to a scheduled Zoom meeting.\n\nJoin Zoom M
 eeting\nhttps://us02web.zoom.us/j/81717486572?pwd=7N2jXXa63o1KCmrpmTbNTJ2M
 81Sxdx.1\n\nMeeting ID: 81717486572\nPasscode: domiki\n
URL;VALUE=URI:https://us02web.zoom.us/j/81717486572?pwd=7N2jXXa63o1KCmrpmTbNTJ2M81Sxdx.1
DTSTART:20250904T143000Z
DTEND:20250904T143100Z
DTSTAMP:20260421T090047Z
BEGIN:VALARM
ACTION:DISPLAY
DESCRIPTION:Reminder
TRIGGER;RELATED=START:-PT15M
END:VALARM
END:VEVENT
END:VCALENDAR